BEGIN:VCALENDAR
VERSION:2.0
PRODID:-//Department Of Education//315ab88d-b41f-4825-8e71-a6bb0e12d541
BEGIN:VTIMEZONE
TZID:Australia/Sydney
TZURL:http://tzurl.org/zoneinfo-outlook/Australia/Sydney
X-LIC-LOCATION:Australia/Sydney
BEGIN:STANDARD
TZOFFSETFROM:+1100
TZOFFSETTO:+1000
TZNAME:AEST
DTSTART:19700405T030000
RRULE:FREQ=YEARLY;BYMONTH=4;BYDAY=1SU
END:STANDARD
BEGIN:DAYLIGHT
TZOFFSETFROM:+1000
TZOFFSETTO:+1100
TZNAME:AEDT
DTSTART:19701004T020000
RRULE:FREQ=YEARLY;BYMONTH=10;BYDAY=1SU
END:DAYLIGHT
END:VTIMEZONE
CALSCALE:GREGORIAN
X-WR-TIMEZONE:Australia/Sydney
BEGIN:VEVENT
DTSTART;VALUE=DATE:20210504
DTEND;VALUE=DATE:20210505
DTSTAMP:20210504T000000Z
UID:b35ddc9c-50d6-41f0-888a-048049ce6d0a
LOCATION:Condobolin High School
SUMMARY;LANGUAGE=en-us:HSC Study Day
RRULE:FREQ=DAILY;INTERVAL=1;UNTIL=20210506;
SEQUENCE:0
DESCRIPTION:HSC Study Day
END:VEVENT
TRANSP:TRANSPARENT
END:VCALENDAR
