BEGIN:VCALENDAR
VERSION:2.0
PRODID:-//Department Of Education//37391d38-4564-4a51-a218-88e4c80f479f
BEGIN:VTIMEZONE
TZID:Australia/Sydney
TZURL:http://tzurl.org/zoneinfo-outlook/Australia/Sydney
X-LIC-LOCATION:Australia/Sydney
BEGIN:STANDARD
TZOFFSETFROM:+1100
TZOFFSETTO:+1000
TZNAME:AEST
DTSTART:19700405T030000
RRULE:FREQ=YEARLY;BYMONTH=4;BYDAY=1SU
END:STANDARD
BEGIN:DAYLIGHT
TZOFFSETFROM:+1000
TZOFFSETTO:+1100
TZNAME:AEDT
DTSTART:19701004T020000
RRULE:FREQ=YEARLY;BYMONTH=10;BYDAY=1SU
END:DAYLIGHT
END:VTIMEZONE
CALSCALE:GREGORIAN
X-WR-TIMEZONE:Australia/Sydney
BEGIN:VEVENT
DTSTART;VALUE=DATE:20210402
DTEND;VALUE=DATE:20210420
DTSTAMP:20210402T000000Z
UID:f266b084-f41c-4eff-bb7d-1eec25f8b967
LOCATION:Condobolin High School
SUMMARY;LANGUAGE=en-us:School Holidays
SEQUENCE:0
DESCRIPTION:School Holidays
END:VEVENT
TRANSP:TRANSPARENT
END:VCALENDAR
