BEGIN:VCALENDAR
VERSION:2.0
PRODID:-//Department Of Education//da89c0ee-12ef-4133-8752-fba90d2b1560
BEGIN:VTIMEZONE
TZID:Australia/Sydney
TZURL:http://tzurl.org/zoneinfo-outlook/Australia/Sydney
X-LIC-LOCATION:Australia/Sydney
BEGIN:STANDARD
TZOFFSETFROM:+1100
TZOFFSETTO:+1000
TZNAME:AEST
DTSTART:19700405T030000
RRULE:FREQ=YEARLY;BYMONTH=4;BYDAY=1SU
END:STANDARD
BEGIN:DAYLIGHT
TZOFFSETFROM:+1000
TZOFFSETTO:+1100
TZNAME:AEDT
DTSTART:19701004T020000
RRULE:FREQ=YEARLY;BYMONTH=10;BYDAY=1SU
END:DAYLIGHT
END:VTIMEZONE
CALSCALE:GREGORIAN
X-WR-TIMEZONE:Australia/Sydney
BEGIN:VEVENT
DTSTART;VALUE=DATE:20210302
DTEND;VALUE=DATE:20210303
DTSTAMP:20210302T000000Z
UID:0311e41b-a2b4-4467-9c91-a3a384bcb61b
LOCATION:Orange
SUMMARY;LANGUAGE=en-us:Girls Open Netball
SEQUENCE:0
DESCRIPTION:Open Girls Netball
END:VEVENT
TRANSP:TRANSPARENT
END:VCALENDAR
