BEGIN:VCALENDAR
VERSION:2.0
PRODID:-//Department Of Education//1660716d-6aed-4809-9f6b-574cb1db70d0
BEGIN:VTIMEZONE
TZID:Australia/Sydney
TZURL:http://tzurl.org/zoneinfo-outlook/Australia/Sydney
X-LIC-LOCATION:Australia/Sydney
BEGIN:STANDARD
TZOFFSETFROM:+1100
TZOFFSETTO:+1000
TZNAME:AEST
DTSTART:19700405T030000
RRULE:FREQ=YEARLY;BYMONTH=4;BYDAY=1SU
END:STANDARD
BEGIN:DAYLIGHT
TZOFFSETFROM:+1000
TZOFFSETTO:+1100
TZNAME:AEDT
DTSTART:19701004T020000
RRULE:FREQ=YEARLY;BYMONTH=10;BYDAY=1SU
END:DAYLIGHT
END:VTIMEZONE
CALSCALE:GREGORIAN
X-WR-TIMEZONE:Australia/Sydney
BEGIN:VEVENT
DTSTART;VALUE=DATE:20210224
DTEND;VALUE=DATE:20210225
DTSTAMP:20210224T000000Z
UID:c15e608c-0ee1-4091-92e5-81367899f76e
LOCATION:Condobolin High School
SUMMARY;LANGUAGE=en-us:Prelim Study Day
RRULE:FREQ=DAILY;INTERVAL=1;UNTIL=20210225;
SEQUENCE:0
DESCRIPTION:Prelim Study Day
END:VEVENT
TRANSP:TRANSPARENT
END:VCALENDAR
